Workbook
Name Classes: 'Calculation Sheet'!$A$15:$A$24
Name Dues: 'Calculation Sheet'!#REF!
Name Link: 'Calculation Sheet'!$A$15:$A$33
Name SHEETER_DECKER__SD: Link
Name SheetMetalLink: 'Calculation Sheet'!$A$15:$A$34
Name UnionDues: 'Calculation Sheet'!#REF!

Sheet Remittance Report
A1: SHEET METAL WORKERS LOCAL 30 BENEFIT AND PENSION PLANS
A3: EPSCA AGREEMENT
A4: EMPLOYEE BENEFITS ELECTRONIC REMITTANCE FORM
A6: Contributing Employer's Report for the Month Ended
A8: Employer's Name & Registration #:
A9: Employer's Address:
A10: Employer's Telephone, Fax, Email:
A11: Employer's Contact Name:
A12: Date Direct Deposit Was Processed:
A14: Administration Office: | C14: 2255 Sheppard Ave. E, Atria 1, Suite 201, Toronto, ON M2J 4Y1
C15: Telephone: 905-946-9700 Canada Toll Free: 1-800-263-3564
C16: Fax: 905-946-2535 | E16: email: contributions@lu30plan.com
A19: Soc. Insurance | B19: Date of Birth | D19: Employee Classification | E19: Total Hours | F19: Pension | G19: Union | H19: to be | I19: to be | J19: to be | K19: to be | L19: to be
A20: Number | B20: YYYY-MM-DD | C20: Member Name | D20: (please use drop window to select) | E20: Worked | F20: Dollars | G20: Dues | H20: hidden | I20: hidden | J20: hidden | K20: hidden | L20: hidden
F21: =E21*I21 -> 0 | G21: =E21*H21 -> 0 | H21: =IF(D21=$J$22,$K$22,IF(D21=$J$23,$K$23,IF(D21=$J$24,$K$24,IF(D21=$J$25,$K$25,IF(D21=$J$26,$K$26,IF(D21=$J$27,$K$27,IF(D21=$J$28,$K$28,IF(D21=$J$29,$K$29,IF(D21=$J$30,$K$30,IF(D21=$J$31,$K$31,IF(D21=$J$32,$K$32,IF(D21=$J$33,$K$33,IF(D21=$J$34,$K$34,IF(D21=$J$35,$K$35,IF(D21=$J$36,$K$36,IF(D21=$J$37,$K$37,IF(D21=$J$38,$K$38,IF(D21=$J$39,$K$39,IF(D21=$J$40,$K$40,IF(D21=$J$41,$K$41,IF(D21=$J$42,$K$42,IF(D21=$J$42,$K$42,IF(D21=$J$43,$K$43,IF(D21=$J$44,$K$44,IF(D21=$J$45,$K$45))))))))))))))))))))))))) -> FALSE | I21: =IF(D21=$J$22,$L$22,IF(D21=$J$23,$L$23,IF(D21=$J$24,$L$24,IF(D21=$J$25,$L$25,IF(D21=$J$26,$L$26,IF(D21=$J$27,$L$27,IF(D21=$J$28,$L$28,IF(D21=$J$29,$L$29,IF(D21=$J$30,$L$30,IF(D21=$J$31,$L$31,IF(D21=$J$32,$L$32,IF(D21=$J$33,$L$33,IF(D21=$J$34,$L$34,IF(D21=$J$35,$L$35,IF(D21=$J$36,$L$36,IF(D21=$J$36,$L$36,IF(D21=$J$37,$L$37,IF(D21=$J$38,$L$38,IF(D21=$J$39,$L$39,IF(D21=$J$40,$L$40,IF(D21=$J$41,$L$41,IF(D21=$J$42,$L$42,IF(D21=$J$43,$L$43,IF(D21=$J$44,$L$44,IF(D21=$J$45,$L$45))))))))))))))))))))))))) -> FALSE | J21: NAME | K21: DUES | L21: PENSION
F22: =E22*I22 -> 0 | G22: =E22*H22 -> 0 | H22: =IF(D22=$J$22,$K$22,IF(D22=$J$23,$K$23,IF(D22=$J$24,$K$24,IF(D22=$J$25,$K$25,IF(D22=$J$26,$K$26,IF(D22=$J$27,$K$27,IF(D22=$J$28,$K$28,IF(D22=$J$29,$K$29,IF(D22=$J$30,$K$30,IF(D22=$J$31,$K$31,IF(D22=$J$32,$K$32,IF(D22=$J$33,$K$33,IF(D22=$J$34,$K$34,IF(D22=$J$35,$K$35,IF(D22=$J$36,$K$36,IF(D22=$J$37,$K$37,IF(D22=$J$38,$K$38,IF(D22=$J$39,$K$39,IF(D22=$J$40,$K$40,IF(D22=$J$41,$K$41,IF(D22=$J$42,$K$42,IF(D22=$J$42,$K$42,IF(D22=$J$43,$K$43,IF(D22=$J$44,$K$44,IF(D22=$J$45,$K$45))))))))))))))))))))))))) -> FALSE | I22: =IF(D22=$J$22,$L$22,IF(D22=$J$23,$L$23,IF(D22=$J$24,$L$24,IF(D22=$J$25,$L$25,IF(D22=$J$26,$L$26,IF(D22=$J$27,$L$27,IF(D22=$J$28,$L$28,IF(D22=$J$29,$L$29,IF(D22=$J$30,$L$30,IF(D22=$J$31,$L$31,IF(D22=$J$32,$L$32,IF(D22=$J$33,$L$33,IF(D22=$J$34,$L$34,IF(D22=$J$35,$L$35,IF(D22=$J$36,$L$36,IF(D22=$J$36,$L$36,IF(D22=$J$37,$L$37,IF(D22=$J$38,$L$38,IF(D22=$J$39,$L$39,IF(D22=$J$40,$L$40,IF(D22=$J$41,$L$41,IF(D22=$J$42,$L$42,IF(D22=$J$43,$L$43,IF(D22=$J$44,$L$44,IF(D22=$J$45,$L$45))))))))))))))))))))))))) -> FALSE | J22: SHEETER/DECKER (ESD) | K22: 1.22 | L22: 10.42
F23: =E23*I23 -> 0 | G23: =E23*H23 -> 0 | H23: =IF(D23=$J$22,$K$22,IF(D23=$J$23,$K$23,IF(D23=$J$24,$K$24,IF(D23=$J$25,$K$25,IF(D23=$J$26,$K$26,IF(D23=$J$27,$K$27,IF(D23=$J$28,$K$28,IF(D23=$J$29,$K$29,IF(D23=$J$30,$K$30,IF(D23=$J$31,$K$31,IF(D23=$J$32,$K$32,IF(D23=$J$33,$K$33,IF(D23=$J$34,$K$34,IF(D23=$J$35,$K$35,IF(D23=$J$36,$K$36,IF(D23=$J$37,$K$37,IF(D23=$J$38,$K$38,IF(D23=$J$39,$K$39,IF(D23=$J$40,$K$40,IF(D23=$J$41,$K$41,IF(D23=$J$42,$K$42,IF(D23=$J$42,$K$42,IF(D23=$J$43,$K$43,IF(D23=$J$44,$K$44,IF(D23=$J$45,$K$45))))))))))))))))))))))))) -> FALSE | I23: =IF(D23=$J$22,$L$22,IF(D23=$J$23,$L$23,IF(D23=$J$24,$L$24,IF(D23=$J$25,$L$25,IF(D23=$J$26,$L$26,IF(D23=$J$27,$L$27,IF(D23=$J$28,$L$28,IF(D23=$J$29,$L$29,IF(D23=$J$30,$L$30,IF(D23=$J$31,$L$31,IF(D23=$J$32,$L$32,IF(D23=$J$33,$L$33,IF(D23=$J$34,$L$34,IF(D23=$J$35,$L$35,IF(D23=$J$36,$L$36,IF(D23=$J$36,$L$36,IF(D23=$J$37,$L$37,IF(D23=$J$38,$L$38,IF(D23=$J$39,$L$39,IF(D23=$J$40,$L$40,IF(D23=$J$41,$L$41,IF(D23=$J$42,$L$42,IF(D23=$J$43,$L$43,IF(D23=$J$44,$L$44,IF(D23=$J$45,$L$45))))))))))))))))))))))))) -> FALSE | J23: SHEETER/DECKER ACTIVE OVER AGE 71 OR RETIRED OVER AGE 63 | K23: 1.22 | L23: 0
F24: =E24*I24 -> 0 | G24: =E24*H24 -> 0 | H24: =IF(D24=$J$22,$K$22,IF(D24=$J$23,$K$23,IF(D24=$J$24,$K$24,IF(D24=$J$25,$K$25,IF(D24=$J$26,$K$26,IF(D24=$J$27,$K$27,IF(D24=$J$28,$K$28,IF(D24=$J$29,$K$29,IF(D24=$J$30,$K$30,IF(D24=$J$31,$K$31,IF(D24=$J$32,$K$32,IF(D24=$J$33,$K$33,IF(D24=$J$34,$K$34,IF(D24=$J$35,$K$35,IF(D24=$J$36,$K$36,IF(D24=$J$37,$K$37,IF(D24=$J$38,$K$38,IF(D24=$J$39,$K$39,IF(D24=$J$40,$K$40,IF(D24=$J$41,$K$41,IF(D24=$J$42,$K$42,IF(D24=$J$42,$K$42,IF(D24=$J$43,$K$43,IF(D24=$J$44,$K$44,IF(D24=$J$45,$K$45))))))))))))))))))))))))) -> FALSE | I24: =IF(D24=$J$22,$L$22,IF(D24=$J$23,$L$23,IF(D24=$J$24,$L$24,IF(D24=$J$25,$L$25,IF(D24=$J$26,$L$26,IF(D24=$J$27,$L$27,IF(D24=$J$28,$L$28,IF(D24=$J$29,$L$29,IF(D24=$J$30,$L$30,IF(D24=$J$31,$L$31,IF(D24=$J$32,$L$32,IF(D24=$J$33,$L$33,IF(D24=$J$34,$L$34,IF(D24=$J$35,$L$35,IF(D24=$J$36,$L$36,IF(D24=$J$36,$L$36,IF(D24=$J$37,$L$37,IF(D24=$J$38,$L$38,IF(D24=$J$39,$L$39,IF(D24=$J$40,$L$40,IF(D24=$J$41,$L$41,IF(D24=$J$42,$L$42,IF(D24=$J$43,$L$43,IF(D24=$J$44,$L$44,IF(D24=$J$45,$L$45))))))))))))))))))))))))) -> FALSE | J24: JOURNEYMAN | K24: 1.22 | L24: 10.42
F25: =E25*I25 -> 0 | G25: =E25*H25 -> 0 | H25: =IF(D25=$J$22,$K$22,IF(D25=$J$23,$K$23,IF(D25=$J$24,$K$24,IF(D25=$J$25,$K$25,IF(D25=$J$26,$K$26,IF(D25=$J$27,$K$27,IF(D25=$J$28,$K$28,IF(D25=$J$29,$K$29,IF(D25=$J$30,$K$30,IF(D25=$J$31,$K$31,IF(D25=$J$32,$K$32,IF(D25=$J$33,$K$33,IF(D25=$J$34,$K$34,IF(D25=$J$35,$K$35,IF(D25=$J$36,$K$36,IF(D25=$J$37,$K$37,IF(D25=$J$38,$K$38,IF(D25=$J$39,$K$39,IF(D25=$J$40,$K$40,IF(D25=$J$41,$K$41,IF(D25=$J$42,$K$42,IF(D25=$J$42,$K$42,IF(D25=$J$43,$K$43,IF(D25=$J$44,$K$44,IF(D25=$J$45,$K$45))))))))))))))))))))))))) -> FALSE | I25: =IF(D25=$J$22,$L$22,IF(D25=$J$23,$L$23,IF(D25=$J$24,$L$24,IF(D25=$J$25,$L$25,IF(D25=$J$26,$L$26,IF(D25=$J$27,$L$27,IF(D25=$J$28,$L$28,IF(D25=$J$29,$L$29,IF(D25=$J$30,$L$30,IF(D25=$J$31,$L$31,IF(D25=$J$32,$L$32,IF(D25=$J$33,$L$33,IF(D25=$J$34,$L$34,IF(D25=$J$35,$L$35,IF(D25=$J$36,$L$36,IF(D25=$J$36,$L$36,IF(D25=$J$37,$L$37,IF(D25=$J$38,$L$38,IF(D25=$J$39,$L$39,IF(D25=$J$40,$L$40,IF(D25=$J$41,$L$41,IF(D25=$J$42,$L$42,IF(D25=$J$43,$L$43,IF(D25=$J$44,$L$44,IF(D25=$J$45,$L$45))))))))))))))))))))))))) -> FALSE | J25: JOURNEYMAN ACTIVE OVER AGE 71 OR RETIRED OVER AGE 63 | K25: 1.22 | L25: 0
F26: =E26*I26 -> 0 | G26: =E26*H26 -> 0 | H26: =IF(D26=$J$22,$K$22,IF(D26=$J$23,$K$23,IF(D26=$J$24,$K$24,IF(D26=$J$25,$K$25,IF(D26=$J$26,$K$26,IF(D26=$J$27,$K$27,IF(D26=$J$28,$K$28,IF(D26=$J$29,$K$29,IF(D26=$J$30,$K$30,IF(D26=$J$31,$K$31,IF(D26=$J$32,$K$32,IF(D26=$J$33,$K$33,IF(D26=$J$34,$K$34,IF(D26=$J$35,$K$35,IF(D26=$J$36,$K$36,IF(D26=$J$37,$K$37,IF(D26=$J$38,$K$38,IF(D26=$J$39,$K$39,IF(D26=$J$40,$K$40,IF(D26=$J$41,$K$41,IF(D26=$J$42,$K$42,IF(D26=$J$42,$K$42,IF(D26=$J$43,$K$43,IF(D26=$J$44,$K$44,IF(D26=$J$45,$K$45))))))))))))))))))))))))) -> FALSE | I26: =IF(D26=$J$22,$L$22,IF(D26=$J$23,$L$23,IF(D26=$J$24,$L$24,IF(D26=$J$25,$L$25,IF(D26=$J$26,$L$26,IF(D26=$J$27,$L$27,IF(D26=$J$28,$L$28,IF(D26=$J$29,$L$29,IF(D26=$J$30,$L$30,IF(D26=$J$31,$L$31,IF(D26=$J$32,$L$32,IF(D26=$J$33,$L$33,IF(D26=$J$34,$L$34,IF(D26=$J$35,$L$35,IF(D26=$J$36,$L$36,IF(D26=$J$36,$L$36,IF(D26=$J$37,$L$37,IF(D26=$J$38,$L$38,IF(D26=$J$39,$L$39,IF(D26=$J$40,$L$40,IF(D26=$J$41,$L$41,IF(D26=$J$42,$L$42,IF(D26=$J$43,$L$43,IF(D26=$J$44,$L$44,IF(D26=$J$45,$L$45))))))))))))))))))))))))) -> FALSE | J26: FOREMAN | K26: 1.33 | L26: 10.42
F27: =E27*I27 -> 0 | G27: =E27*H27 -> 0 | H27: =IF(D27=$J$22,$K$22,IF(D27=$J$23,$K$23,IF(D27=$J$24,$K$24,IF(D27=$J$25,$K$25,IF(D27=$J$26,$K$26,IF(D27=$J$27,$K$27,IF(D27=$J$28,$K$28,IF(D27=$J$29,$K$29,IF(D27=$J$30,$K$30,IF(D27=$J$31,$K$31,IF(D27=$J$32,$K$32,IF(D27=$J$33,$K$33,IF(D27=$J$34,$K$34,IF(D27=$J$35,$K$35,IF(D27=$J$36,$K$36,IF(D27=$J$37,$K$37,IF(D27=$J$38,$K$38,IF(D27=$J$39,$K$39,IF(D27=$J$40,$K$40,IF(D27=$J$41,$K$41,IF(D27=$J$42,$K$42,IF(D27=$J$42,$K$42,IF(D27=$J$43,$K$43,IF(D27=$J$44,$K$44,IF(D27=$J$45,$K$45))))))))))))))))))))))))) -> FALSE | I27: =IF(D27=$J$22,$L$22,IF(D27=$J$23,$L$23,IF(D27=$J$24,$L$24,IF(D27=$J$25,$L$25,IF(D27=$J$26,$L$26,IF(D27=$J$27,$L$27,IF(D27=$J$28,$L$28,IF(D27=$J$29,$L$29,IF(D27=$J$30,$L$30,IF(D27=$J$31,$L$31,IF(D27=$J$32,$L$32,IF(D27=$J$33,$L$33,IF(D27=$J$34,$L$34,IF(D27=$J$35,$L$35,IF(D27=$J$36,$L$36,IF(D27=$J$36,$L$36,IF(D27=$J$37,$L$37,IF(D27=$J$38,$L$38,IF(D27=$J$39,$L$39,IF(D27=$J$40,$L$40,IF(D27=$J$41,$L$41,IF(D27=$J$42,$L$42,IF(D27=$J$43,$L$43,IF(D27=$J$44,$L$44,IF(D27=$J$45,$L$45))))))))))))))))))))))))) -> FALSE | J27: FOREMAN ACTIVE OVER AGE 71 OR RETIRED OVER AGE 63 | K27: 1.33 | L27: 0
F28: =E28*I28 -> 0 | G28: =E28*H28 -> 0 | H28: =IF(D28=$J$22,$K$22,IF(D28=$J$23,$K$23,IF(D28=$J$24,$K$24,IF(D28=$J$25,$K$25,IF(D28=$J$26,$K$26,IF(D28=$J$27,$K$27,IF(D28=$J$28,$K$28,IF(D28=$J$29,$K$29,IF(D28=$J$30,$K$30,IF(D28=$J$31,$K$31,IF(D28=$J$32,$K$32,IF(D28=$J$33,$K$33,IF(D28=$J$34,$K$34,IF(D28=$J$35,$K$35,IF(D28=$J$36,$K$36,IF(D28=$J$37,$K$37,IF(D28=$J$38,$K$38,IF(D28=$J$39,$K$39,IF(D28=$J$40,$K$40,IF(D28=$J$41,$K$41,IF(D28=$J$42,$K$42,IF(D28=$J$42,$K$42,IF(D28=$J$43,$K$43,IF(D28=$J$44,$K$44,IF(D28=$J$45,$K$45))))))))))))))))))))))))) -> FALSE | I28: =IF(D28=$J$22,$L$22,IF(D28=$J$23,$L$23,IF(D28=$J$24,$L$24,IF(D28=$J$25,$L$25,IF(D28=$J$26,$L$26,IF(D28=$J$27,$L$27,IF(D28=$J$28,$L$28,IF(D28=$J$29,$L$29,IF(D28=$J$30,$L$30,IF(D28=$J$31,$L$31,IF(D28=$J$32,$L$32,IF(D28=$J$33,$L$33,IF(D28=$J$34,$L$34,IF(D28=$J$35,$L$35,IF(D28=$J$36,$L$36,IF(D28=$J$36,$L$36,IF(D28=$J$37,$L$37,IF(D28=$J$38,$L$38,IF(D28=$J$39,$L$39,IF(D28=$J$40,$L$40,IF(D28=$J$41,$L$41,IF(D28=$J$42,$L$42,IF(D28=$J$43,$L$43,IF(D28=$J$44,$L$44,IF(D28=$J$45,$L$45))))))))))))))))))))))))) -> FALSE | J28: SUBFOREMAN | K28: 1.28 | L28: 10.42
F29: =E29*I29 -> 0 | G29: =E29*H29 -> 0 | H29: =IF(D29=$J$22,$K$22,IF(D29=$J$23,$K$23,IF(D29=$J$24,$K$24,IF(D29=$J$25,$K$25,IF(D29=$J$26,$K$26,IF(D29=$J$27,$K$27,IF(D29=$J$28,$K$28,IF(D29=$J$29,$K$29,IF(D29=$J$30,$K$30,IF(D29=$J$31,$K$31,IF(D29=$J$32,$K$32,IF(D29=$J$33,$K$33,IF(D29=$J$34,$K$34,IF(D29=$J$35,$K$35,IF(D29=$J$36,$K$36,IF(D29=$J$37,$K$37,IF(D29=$J$38,$K$38,IF(D29=$J$39,$K$39,IF(D29=$J$40,$K$40,IF(D29=$J$41,$K$41,IF(D29=$J$42,$K$42,IF(D29=$J$42,$K$42,IF(D29=$J$43,$K$43,IF(D29=$J$44,$K$44,IF(D29=$J$45,$K$45))))))))))))))))))))))))) -> FALSE | I29: =IF(D29=$J$22,$L$22,IF(D29=$J$23,$L$23,IF(D29=$J$24,$L$24,IF(D29=$J$25,$L$25,IF(D29=$J$26,$L$26,IF(D29=$J$27,$L$27,IF(D29=$J$28,$L$28,IF(D29=$J$29,$L$29,IF(D29=$J$30,$L$30,IF(D29=$J$31,$L$31,IF(D29=$J$32,$L$32,IF(D29=$J$33,$L$33,IF(D29=$J$34,$L$34,IF(D29=$J$35,$L$35,IF(D29=$J$36,$L$36,IF(D29=$J$36,$L$36,IF(D29=$J$37,$L$37,IF(D29=$J$38,$L$38,IF(D29=$J$39,$L$39,IF(D29=$J$40,$L$40,IF(D29=$J$41,$L$41,IF(D29=$J$42,$L$42,IF(D29=$J$43,$L$43,IF(D29=$J$44,$L$44,IF(D29=$J$45,$L$45))))))))))))))))))))))))) -> FALSE | J29: SUBFOREMAN ACTIVE OVER AGE 71 OR RETIRED OVER AGE 63 | K29: 1.28 | L29: 0
F30: =E30*I30 -> 0 | G30: =E30*H30 -> 0 | H30: =IF(D30=$J$22,$K$22,IF(D30=$J$23,$K$23,IF(D30=$J$24,$K$24,IF(D30=$J$25,$K$25,IF(D30=$J$26,$K$26,IF(D30=$J$27,$K$27,IF(D30=$J$28,$K$28,IF(D30=$J$29,$K$29,IF(D30=$J$30,$K$30,IF(D30=$J$31,$K$31,IF(D30=$J$32,$K$32,IF(D30=$J$33,$K$33,IF(D30=$J$34,$K$34,IF(D30=$J$35,$K$35,IF(D30=$J$36,$K$36,IF(D30=$J$37,$K$37,IF(D30=$J$38,$K$38,IF(D30=$J$39,$K$39,IF(D30=$J$40,$K$40,IF(D30=$J$41,$K$41,IF(D30=$J$42,$K$42,IF(D30=$J$42,$K$42,IF(D30=$J$43,$K$43,IF(D30=$J$44,$K$44,IF(D30=$J$45,$K$45))))))))))))))))))))))))) -> FALSE | I30: =IF(D30=$J$22,$L$22,IF(D30=$J$23,$L$23,IF(D30=$J$24,$L$24,IF(D30=$J$25,$L$25,IF(D30=$J$26,$L$26,IF(D30=$J$27,$L$27,IF(D30=$J$28,$L$28,IF(D30=$J$29,$L$29,IF(D30=$J$30,$L$30,IF(D30=$J$31,$L$31,IF(D30=$J$32,$L$32,IF(D30=$J$33,$L$33,IF(D30=$J$34,$L$34,IF(D30=$J$35,$L$35,IF(D30=$J$36,$L$36,IF(D30=$J$36,$L$36,IF(D30=$J$37,$L$37,IF(D30=$J$38,$L$38,IF(D30=$J$39,$L$39,IF(D30=$J$40,$L$40,IF(D30=$J$41,$L$41,IF(D30=$J$42,$L$42,IF(D30=$J$43,$L$43,IF(D30=$J$44,$L$44,IF(D30=$J$45,$L$45))))))))))))))))))))))))) -> FALSE | J30: SHEETER/DECKER ASSISTANT (ESDA) | K30: 1.12 | L30: 9.11
F31: =E31*I31 -> 0 | G31: =E31*H31 -> 0 | H31: =IF(D31=$J$22,$K$22,IF(D31=$J$23,$K$23,IF(D31=$J$24,$K$24,IF(D31=$J$25,$K$25,IF(D31=$J$26,$K$26,IF(D31=$J$27,$K$27,IF(D31=$J$28,$K$28,IF(D31=$J$29,$K$29,IF(D31=$J$30,$K$30,IF(D31=$J$31,$K$31,IF(D31=$J$32,$K$32,IF(D31=$J$33,$K$33,IF(D31=$J$34,$K$34,IF(D31=$J$35,$K$35,IF(D31=$J$36,$K$36,IF(D31=$J$37,$K$37,IF(D31=$J$38,$K$38,IF(D31=$J$39,$K$39,IF(D31=$J$40,$K$40,IF(D31=$J$41,$K$41,IF(D31=$J$42,$K$42,IF(D31=$J$42,$K$42,IF(D31=$J$43,$K$43,IF(D31=$J$44,$K$44,IF(D31=$J$45,$K$45))))))))))))))))))))))))) -> FALSE | I31: =IF(D31=$J$22,$L$22,IF(D31=$J$23,$L$23,IF(D31=$J$24,$L$24,IF(D31=$J$25,$L$25,IF(D31=$J$26,$L$26,IF(D31=$J$27,$L$27,IF(D31=$J$28,$L$28,IF(D31=$J$29,$L$29,IF(D31=$J$30,$L$30,IF(D31=$J$31,$L$31,IF(D31=$J$32,$L$32,IF(D31=$J$33,$L$33,IF(D31=$J$34,$L$34,IF(D31=$J$35,$L$35,IF(D31=$J$36,$L$36,IF(D31=$J$36,$L$36,IF(D31=$J$37,$L$37,IF(D31=$J$38,$L$38,IF(D31=$J$39,$L$39,IF(D31=$J$40,$L$40,IF(D31=$J$41,$L$41,IF(D31=$J$42,$L$42,IF(D31=$J$43,$L$43,IF(D31=$J$44,$L$44,IF(D31=$J$45,$L$45))))))))))))))))))))))))) -> FALSE | J31: SHEETER/DECKER ASSISTANT ACTIVE OVER AGE 71 OR RETIRED OVER AGE 63 | K31: 1.12 | L31: 0
F32: =E32*I32 -> 0 | G32: =E32*H32 -> 0 | H32: =IF(D32=$J$22,$K$22,IF(D32=$J$23,$K$23,IF(D32=$J$24,$K$24,IF(D32=$J$25,$K$25,IF(D32=$J$26,$K$26,IF(D32=$J$27,$K$27,IF(D32=$J$28,$K$28,IF(D32=$J$29,$K$29,IF(D32=$J$30,$K$30,IF(D32=$J$31,$K$31,IF(D32=$J$32,$K$32,IF(D32=$J$33,$K$33,IF(D32=$J$34,$K$34,IF(D32=$J$35,$K$35,IF(D32=$J$36,$K$36,IF(D32=$J$37,$K$37,IF(D32=$J$38,$K$38,IF(D32=$J$39,$K$39,IF(D32=$J$40,$K$40,IF(D32=$J$41,$K$41,IF(D32=$J$42,$K$42,IF(D32=$J$42,$K$42,IF(D32=$J$43,$K$43,IF(D32=$J$44,$K$44,IF(D32=$J$45,$K$45))))))))))))))))))))))))) -> FALSE | I32: =IF(D32=$J$22,$L$22,IF(D32=$J$23,$L$23,IF(D32=$J$24,$L$24,IF(D32=$J$25,$L$25,IF(D32=$J$26,$L$26,IF(D32=$J$27,$L$27,IF(D32=$J$28,$L$28,IF(D32=$J$29,$L$29,IF(D32=$J$30,$L$30,IF(D32=$J$31,$L$31,IF(D32=$J$32,$L$32,IF(D32=$J$33,$L$33,IF(D32=$J$34,$L$34,IF(D32=$J$35,$L$35,IF(D32=$J$36,$L$36,IF(D32=$J$36,$L$36,IF(D32=$J$37,$L$37,IF(D32=$J$38,$L$38,IF(D32=$J$39,$L$39,IF(D32=$J$40,$L$40,IF(D32=$J$41,$L$41,IF(D32=$J$42,$L$42,IF(D32=$J$43,$L$43,IF(D32=$J$44,$L$44,IF(D32=$J$45,$L$45))))))))))))))))))))))))) -> FALSE | J32: 5TH YEAR APPRENTICE (30EPS5) | K32: 0.98 | L32: 7.69
F33: =E33*I33 -> 0 | G33: =E33*H33 -> 0 | H33: =IF(D33=$J$22,$K$22,IF(D33=$J$23,$K$23,IF(D33=$J$24,$K$24,IF(D33=$J$25,$K$25,IF(D33=$J$26,$K$26,IF(D33=$J$27,$K$27,IF(D33=$J$28,$K$28,IF(D33=$J$29,$K$29,IF(D33=$J$30,$K$30,IF(D33=$J$31,$K$31,IF(D33=$J$32,$K$32,IF(D33=$J$33,$K$33,IF(D33=$J$34,$K$34,IF(D33=$J$35,$K$35,IF(D33=$J$36,$K$36,IF(D33=$J$37,$K$37,IF(D33=$J$38,$K$38,IF(D33=$J$39,$K$39,IF(D33=$J$40,$K$40,IF(D33=$J$41,$K$41,IF(D33=$J$42,$K$42,IF(D33=$J$42,$K$42,IF(D33=$J$43,$K$43,IF(D33=$J$44,$K$44,IF(D33=$J$45,$K$45))))))))))))))))))))))))) -> FALSE | I33: =IF(D33=$J$22,$L$22,IF(D33=$J$23,$L$23,IF(D33=$J$24,$L$24,IF(D33=$J$25,$L$25,IF(D33=$J$26,$L$26,IF(D33=$J$27,$L$27,IF(D33=$J$28,$L$28,IF(D33=$J$29,$L$29,IF(D33=$J$30,$L$30,IF(D33=$J$31,$L$31,IF(D33=$J$32,$L$32,IF(D33=$J$33,$L$33,IF(D33=$J$34,$L$34,IF(D33=$J$35,$L$35,IF(D33=$J$36,$L$36,IF(D33=$J$36,$L$36,IF(D33=$J$37,$L$37,IF(D33=$J$38,$L$38,IF(D33=$J$39,$L$39,IF(D33=$J$40,$L$40,IF(D33=$J$41,$L$41,IF(D33=$J$42,$L$42,IF(D33=$J$43,$L$43,IF(D33=$J$44,$L$44,IF(D33=$J$45,$L$45))))))))))))))))))))))))) -> FALSE | J33: 5TH YEAR APPRENTICE ACTIVE OVER AGE 71 OR RETIRED OVER AGE 63 | K33: 0.98 | L33: 0
... F39: =E39*I39 -> 0 | G39: =E39*H39 -> 0 | H39: =IF(D39=$J$22,$K$22,IF(D39=$J$23,$K$23,IF(D39=$J$24,$K$24,IF(D39=$J$25,$K$25,IF(D39=$J$26,$K$26,IF(D39=$J$27,$K$27,IF(D39=$J$28,$K$28,IF(D39=$J$29,$K$29,IF(D39=$J$30,$K$30,IF(D39=$J$31,$K$31,IF(D39=$J$32,$K$32,IF(D39=$J$33,$K$33,IF(D39=$J$34,$K$34,IF(D39=$J$35,$K$35,IF(D39=$J$36,$K$36,IF(D39=$J$37,$K$37,IF(D39=$J$38,$K$38,IF(D39=$J$39,$K$39,IF(D39=$J$40,$K$40,IF(D39=$J$41,$K$41,IF(D39=$J$42,$K$42,IF(D39=$J$42,$K$42,IF(D39=$J$43,$K$43,IF(D39=$J$44,$K$44,IF(D39=$J$45,$K$45))))))))))))))))))))))))) -> FALSE | I39: =IF(D39=$J$22,$L$22,IF(D39=$J$23,$L$23,IF(D39=$J$24,$L$24,IF(D39=$J$25,$L$25,IF(D39=$J$26,$L$26,IF(D39=$J$27,$L$27,IF(D39=$J$28,$L$28,IF(D39=$J$29,$L$29,IF(D39=$J$30,$L$30,IF(D39=$J$31,$L$31,IF(D39=$J$32,$L$32,IF(D39=$J$33,$L$33,IF(D39=$J$34,$L$34,IF(D39=$J$35,$L$35,IF(D39=$J$36,$L$36,IF(D39=$J$36,$L$36,IF(D39=$J$37,$L$37,IF(D39=$J$38,$L$38,IF(D39=$J$39,$L$39,IF(D39=$J$40,$L$40,IF(D39=$J$41,$L$41,IF(D39=$J$42,$L$42,IF(D39=$J$43,$L$43,IF(D39=$J$44,$L$44,IF(D39=$J$45,$L$45))))))))))))))))))))))))) -> FALSE | J39: 3RD YEAR APPRENTICE ACTIVE OVER AGE 71 OR RETIRED OVER AGE 63 | K39: 0.73 | L39: 0
C40: Total All Members | E40: =SUM(E21:E39) -> 0 | F40: =SUM(F21:F39) -> 0 | G40: =SUM(G21:G39) -> 0 | J40: 2ND YEAR APPRENTICE (EP2A) | K40: 0.61 | L40: 0
J41: 2ND YEAR APPRENTICE ACTIVE OVER AGE 71 OR RETIRED OVER AGE 63 | K41: 0.61 | L41: 0
A42: REMINDER: Pension contributions can not be accepted into the Pension Plan in relation to: • work hours after December 1st of the year in which the member turns age 71 • work hours for a member age 63+ already in receipt of a pension benefit from this plan The Collective Bargaining Agreement provides that these ineligible pension contributions must be paid to the employee by adding it to their hourly rate, with regular payroll deductions applied. The Plan Administrator’s Office will notify you if we receive contributions for a member already in receipt of their pension benefit. | J42: 1ST YEAR APPRENTICE (EP1A) | K42: 0.49 | L42: 0
J43: 1ST YEAR APPRENTICE ACTIVE OVER AGE 71 OR RETIRED OVER AGE 63 | K43: 0.49 | L43: 0
J44: PROBATIONARY SIDER (EPS) | K44: 0.76 | L44: 0
J45: PROBATIONARY SIDER ACTIVE OVER AGE 71 OR RETIRED OVER AGE 63 | K45: 0.76 | L45: 0
A47: Per your Collective Bargaining Agreement - "If a Pension Trust Fund, arising out of this Collective Agreement is prohibited, by Law, from accepting pension contributions required by the terms of the Collective Agreement on account of an employee that is ineligible to contribute to a Registered Pension Plan, then such contributions shall be added to the hourly rate of the employee and attract the requisite vacation pay".
A52: Privacy Statement: The Sheet Metal Workers Local 30 Benefit Plan and the Sheet Metal Workers Local 30 Pension Plan (together called “the Plans”), their administrator Employee Benefit Plan Services Limited, and providers working with the Plans or administrator will collect, maintain, use and disclose only the information that is necessary for the administration of the Plans. Personal information will be protected pursuant to the applicable legislation. The Plans may collect, maintain, use and disclose personal information with relevant persons or organizations (employers, health benefit managers, health professionals, institutions, insurers, investigative agencies, legal counsel, other plans or unions, pharmacies, regulators, re-insurers) in order to manage the Plans and entitlement to the benefits of the Plans, and may include information such as financial, health or benefits related information. Questions related to the Privacy Statement should be directed to the Privacy Officer.
A57: This report and remittance are due and payable before the 20th of the month following that month in which the
A58: contributions are earned.

Sheet Calculation Sheet
A1: SHEET METAL WORKERS LOCAL UNION 30
A2: CALCULATION SHEET FOR MONTHLY REMITTANCE - EPSCA
A4: Reporting Month/Year: | B4: ='Remittance Report'!E6 -> 0
A6: WELFARE | B6: ='Remittance Report'!$E$40 -> 0 | C6: 4.08 | D6: =B6*C6 -> 0
A7: W.C.B | B7: ='Remittance Report'!$E$40 -> 0 | C7: 0.03 | D7: =B7*C7 -> 0
A8: 8% RETAIL SALES TAX: WELFARE, WBC | B8: ='Remittance Report'!$E$40 -> 0 | C8: 0.3288 | D8: =B8*C8 -> 0
A9: (VENDER PERMIT #3345-1568)
A10: PROVINCIAL TRAINING TRUST FUND | B10: 0 | C10: 0.24 | D10: 0
A11: BEREAVEMENT | B11: ='Remittance Report'!$E$40 -> 0 | C11: 0.02 | D11: =B11*C11 -> 0
A12: SUB TOTAL: | B12: ='Remittance Report'!$E$40 -> 0 | C12: =SUM(C6:C11) -> 4.6988 | D12: =B12*C12 -> 0
A14: PENSION | C14: Rates Effective May 1, 2025
A15: SHEETER/DECKER (ESD) | B15: =SUMIF('Remittance Report'!D21:D39,"SHEETER/DECKER (SD)",'Remittance Report'!E21:E39) -> 0 | C15: 12.39 | D15: =B15*C15 -> 0
A16: SHEETER/DECKER ACTIVE OVER AGE 71 OR RETIRED OVER AGE 63 | B16: =SUMIF('Remittance Report'!D21:D39,"SHEETER/DECKER ACTIVE OVER AGE 71 OR RETIRED OVER AGE 63",'Remittance Report'!E21:E39) -> 0 | C16: 0 | D16: =B16*C16 -> 0
A17: JOURNEYMAN/FOREMAN/SUBFOREMAN | B17: =SUMIF('Remittance Report'!D23:D41,"SHEETER/DECKER (SD)",'Remittance Report'!E23:E41) -> 0 | C17: 12.39 | D17: =B17*C17 -> 0
A18: JOURNEYMAN/FOREMAN/SUBFOREMAN ACTIVE OVER AGE 71 OR RETIRED OVER AGE 63 | B18: =SUMIF('Remittance Report'!D23:D41,"SHEETER/DECKER ACTIVE OVER AGE 71 OR RETIRED OVER AGE 63",'Remittance Report'!E23:E41) -> 0 | C18: 0 | D18: =B18*C18 -> 0
A19: SHEETER/DECKER ASSISTANT (ESDA) | B19: =SUMIF('Remittance Report'!D21:D39,"SHEETER/DECKER ASSISTANT (SDA)",'Remittance Report'!E21:E39) -> 0 | C19: 10.94 | D19: =B19*C19 -> 0
A20: SHEETER/DECKER ASSISTANT ACTIVE OVER AGE 71 OR RETIRED OVER AGE 63 | B20: =SUMIF('Remittance Report'!D21:D39,"SHEETER/DECKER ASSISTANT ACTIVE OVER AGE 71 OR RETIRED OVER AGE 63",'Remittance Report'!E21:E39) -> 0 | C20: 0 | D20: =B20*C20 -> 0
A21: 5TH YEAR APPRENTICE (30EPS5) | B21: =SUMIF('Remittance Report'!D19:D37,"MATERIAL HANDLER 3 (MH3)",'Remittance Report'!E19:E37) -> 0 | C21: 9.26 | D21: =B21*C21 -> 0
A22: 5TH YEAR APPRENTICE ACTIVE OVER AGE 71 OR RETIRED OVER AGE 63 | B22: =SUMIF('Remittance Report'!D19:D37,"MATERIAL HANDLER 3 ACTIVE OVER AGE 71 OR RETIRED OVER AGE 63",'Remittance Report'!E19:E37) -> 0 | C22: 0 | D22: =B22*C22 -> 0
A23: MATERIAL HANDLER (EMH) | B23: =SUMIF('Remittance Report'!D21:D39,"MATERIAL HANDLER 3 (MH3)",'Remittance Report'!E21:E39) -> 0 | C23: 9.48 | D23: =B23*C23 -> 0
A24: MATERIAL HANDLER ACTIVE OVER AGE 71 OR RETIRED OVER AGE 63 | B24: =SUMIF('Remittance Report'!D21:D39,"MATERIAL HANDLER 3 ACTIVE OVER AGE 71 OR RETIRED OVER AGE 63",'Remittance Report'!E21:E39) -> 0 | C24: 0 | D24: =B24*C24 -> 0
A25: 4TH YEAR APPRENTICE (30EPS4) | B25: =SUMIF('Remittance Report'!D21:D39,"MATERIAL HANDLER 1 (MH1)",'Remittance Report'!E21:E39) -> 0 | C25: 8.14 | D25: =B25*C25 -> 0
A26: 4TH YEAR APPRENTICE ACTIVE OVER AGE 71 OR RETIRED OVER AGE 63 | B26: =SUMIF('Remittance Report'!D21:D39,"MATERIAL HANDLER 1 ACTIVE OVER AGE 71 OR RETIRED OVER AGE 63",'Remittance Report'!E21:E39) -> 0 | C26: 0 | D26: =B26*C26 -> 0
A27: 3RD YEAR APPRENTICE (30EPS3) | B27: =SUMIF('Remittance Report'!D15:D33,"PROBATIONARY EMPLOYEE (PSD)",'Remittance Report'!E15:E33) -> 0 | C27: 6.99 | D27: =B27*C27 -> 0
A28: 3RD YEAR APPRENTICE ACTIVE OVER AGE 71 OR RETIRED OVER AGE 63 | B28: =SUMIF('Remittance Report'!D15:D33,"PROBATIONARY EMPLOYEE ACTIVE OVER AGE 71 OR RETIRED OVER AGE 63",'Remittance Report'!E15:E33) -> 0 | C28: 0 | D28: =B28*C28 -> 0
A29: 2ND YEAR APPRENTICE (EP2A) | B29: =SUMIF('Remittance Report'!D17:D35,"PROBATIONARY EMPLOYEE (PSD)",'Remittance Report'!E17:E35) -> 0 | C29: 5.71 | D29: =B29*C29 -> 0
A30: 2ND YEAR APPRENTICE ACTIVE OVER AGE 71 OR RETIRED OVER AGE 63 | B30: =SUMIF('Remittance Report'!D17:D35,"PROBATIONARY EMPLOYEE ACTIVE OVER AGE 71 OR RETIRED OVER AGE 63",'Remittance Report'!E17:E35) -> 0 | C30: 0 | D30: =B30*C30 -> 0
A31: 1ST YEAR APPRENTICE (EP1A) | B31: =SUMIF('Remittance Report'!D19:D37,"PROBATIONARY EMPLOYEE (PSD)",'Remittance Report'!E19:E37) -> 0 | C31: 5.71 | D31: =B31*C31 -> 0
A32: 1ST YEAR APPRENTICE ACTIVE OVER AGE 71 OR RETIRED OVER AGE 63 | B32: =SUMIF('Remittance Report'!D19:D37,"PROBATIONARY EMPLOYEE ACTIVE OVER AGE 71 OR RETIRED OVER AGE 63",'Remittance Report'!E19:E37) -> 0 | C32: 0 | D32: =B32*C32 -> 0
A33: PROBATIONARY SIDER (EPS) | B33: =SUMIF('Remittance Report'!D21:D39,"PROBATIONARY EMPLOYEE (PSD)",'Remittance Report'!E21:E39) -> 0 | C33: 0 | D33: =B33*C33 -> 0
A34: PROBATIONARY SIDER ACTIVE OVER AGE 71 OR RETIRED OVER AGE 63 | B34: =SUMIF('Remittance Report'!D21:D39,"PROBATIONARY EMPLOYEE ACTIVE OVER AGE 71 OR RETIRED OVER AGE 63",'Remittance Report'!E21:E39) -> 0 | C34: 0 | D34: =B34*C34 -> 0
A35: SUB TOTAL (Excluding no Pension classes): | B35: =B15+B19+B21+B23+B25+B33 -> 0 | D35: =SUM(D15:D34) -> 0
A37: UNION DUES | C37: Rates Effective September 15, 2025
A38: SHEETER/DECKER (ESD) | B38: =SUMIF('Remittance Report'!D44:D62,"SHEETER/DECKER (SD)",'Remittance Report'!E44:E62) -> 0 | C38: 1.39 | D38: =B38*C38 -> 0
A39: SHEETER/DECKER ACTIVE OVER AGE 71 OR RETIRED OVER AGE 63 | B39: =SUMIF('Remittance Report'!D44:D62,"SHEETER/DECKER ACTIVE OVER AGE 71 OR RETIRED OVER AGE 63",'Remittance Report'!E44:E62) -> 0 | C39: 1.39 | D39: =B39*C39 -> 0
A40: JOURNEYMAN | B40: =SUMIF('Remittance Report'!D46:D64,"SHEETER/DECKER (SD)",'Remittance Report'!E46:E64) -> 0 | C40: 1.39 | D40: =B40*C40 -> 0
A41: JOURNEYMAN ACTIVE OVER AGE 71 OR RETIRED OVER AGE 63 | B41: =SUMIF('Remittance Report'!D46:D64,"SHEETER/DECKER ACTIVE OVER AGE 71 OR RETIRED OVER AGE 63",'Remittance Report'!E46:E64) -> 0 | C41: 1.39 | D41: =B41*C41 -> 0
A42: FOREMAN | B42: =SUMIF('Remittance Report'!D48:D66,"SHEETER/DECKER (SD)",'Remittance Report'!E48:E66) -> 0 | C42: 1.55 | D42: =B42*C42 -> 0
A43: FOREMAN ACTIVE OVER AGE 71 OR RETIRED OVER AGE 63 | B43: =SUMIF('Remittance Report'!D48:D66,"SHEETER/DECKER ACTIVE OVER AGE 71 OR RETIRED OVER AGE 63",'Remittance Report'!E48:E66) -> 0 | C43: 1.55 | D43: =B43*C43 -> 0
A44: SUBFOREMAN | B44: =SUMIF('Remittance Report'!D50:D68,"SHEETER/DECKER (SD)",'Remittance Report'!E50:E68) -> 0 | C44: 1.46 | D44: =B44*C44 -> 0
...
